BEGIN:VCALENDAR
VERSION:2.0
PRODID:-//Jeffrey Wands - ECPv6.15.20//NONSGML v1.0//EN
CALSCALE:GREGORIAN
METHOD:PUBLISH
X-WR-CALNAME:Jeffrey Wands
X-ORIGINAL-URL:https://jeffreywands.com
X-WR-CALDESC:Events for Jeffrey Wands
REFRESH-INTERVAL;VALUE=DURATION:PT1H
X-Robots-Tag:noindex
X-PUBLISHED-TTL:PT1H
BEGIN:VTIMEZONE
TZID:America/New_York
BEGIN:DAYLIGHT
TZOFFSETFROM:-0500
TZOFFSETTO:-0400
TZNAME:EDT
DTSTART:20250309T070000
END:DAYLIGHT
BEGIN:STANDARD
TZOFFSETFROM:-0400
TZOFFSETTO:-0500
TZNAME:EST
DTSTART:20251102T060000
END:STANDARD
BEGIN:DAYLIGHT
TZOFFSETFROM:-0500
TZOFFSETTO:-0400
TZNAME:EDT
DTSTART:20260308T070000
END:DAYLIGHT
BEGIN:STANDARD
TZOFFSETFROM:-0400
TZOFFSETTO:-0500
TZNAME:EST
DTSTART:20261101T060000
END:STANDARD
BEGIN:DAYLIGHT
TZOFFSETFROM:-0500
TZOFFSETTO:-0400
TZNAME:EDT
DTSTART:20270314T070000
END:DAYLIGHT
BEGIN:STANDARD
TZOFFSETFROM:-0400
TZOFFSETTO:-0500
TZNAME:EST
DTSTART:20271107T060000
END:STANDARD
END:VTIMEZONE
BEGIN:VEVENT
DTSTART;TZID=America/New_York:20260420T173000
DTEND;TZID=America/New_York:20260420T173000
DTSTAMP:20260425T122946
CREATED:20260325T040323Z
LAST-MODIFIED:20260325T041602Z
UID:574-1776706200-1776706200@jeffreywands.com
SUMMARY:An Evening with Jeffrey Wands
DESCRIPTION:Sponsored by the Merrick Kiwanis Club \n\n\n\n\n\n5:30 pm (Dinner) and 7:00 pm (Jeffrey) \n\n\n\nReservations with Credit Card
URL:https://jeffreywands.com/event/an-evening-with-jeffrey-wands-2/
LOCATION:Frankies Pizza & Restaurant\, 1696 Merrick Rd.\, Merrick\, New York\, 11566\, United States
END:VEVENT
END:VCALENDAR